BEGIN:VCALENDAR
VERSION:2.0
PRODID:-//Cade Museum for Creativity &amp; Invention - ECPv6.15.20//NONSGML v1.0//EN
CALSCALE:GREGORIAN
METHOD:PUBLISH
X-ORIGINAL-URL:https://cademuseum.org
X-WR-CALDESC:Events for Cade Museum for Creativity &amp; Invention
REFRESH-INTERVAL;VALUE=DURATION:PT1H
X-Robots-Tag:noindex
X-PUBLISHED-TTL:PT1H
BEGIN:VTIMEZONE
TZID:America/New_York
BEGIN:DAYLIGHT
TZOFFSETFROM:-0500
TZOFFSETTO:-0400
TZNAME:EDT
DTSTART:20220313T070000
END:DAYLIGHT
BEGIN:STANDARD
TZOFFSETFROM:-0400
TZOFFSETTO:-0500
TZNAME:EST
DTSTART:20221106T060000
END:STANDARD
BEGIN:DAYLIGHT
TZOFFSETFROM:-0500
TZOFFSETTO:-0400
TZNAME:EDT
DTSTART:20230312T070000
END:DAYLIGHT
BEGIN:STANDARD
TZOFFSETFROM:-0400
TZOFFSETTO:-0500
TZNAME:EST
DTSTART:20231105T060000
END:STANDARD
BEGIN:DAYLIGHT
TZOFFSETFROM:-0500
TZOFFSETTO:-0400
TZNAME:EDT
DTSTART:20240310T070000
END:DAYLIGHT
BEGIN:STANDARD
TZOFFSETFROM:-0400
TZOFFSETTO:-0500
TZNAME:EST
DTSTART:20241103T060000
END:STANDARD
END:VTIMEZONE
BEGIN:VEVENT
DTSTART;TZID=America/New_York:20230717T090000
DTEND;TZID=America/New_York:20230721T130000
DTSTAMP:20260425T075315
CREATED:20230314T161359Z
LAST-MODIFIED:20230620T203334Z
UID:10001065-1689584400-1689944400@cademuseum.org
SUMMARY:Buggin' Out Camp (Half Day)
DESCRIPTION:There’s an entire kingdom of creatures all around us that make the world go round\, but they often go unnoticed. From chirping grasshoppers to beautiful butterflies or tiny ants\, insects play important roles in their homes all over the world. Discover a bug’s life and more with the Cade! \nRegister here.
URL:https://cademuseum.org/event/buggin-out-camp-half-day/
LOCATION:The Cade Museum\, 811 South Main Street\, Gainesville\, FL\, 32601\, United States
ATTACH;FMTTYPE=image/jpeg:https://cademuseum.org/wp-content/uploads/2023/03/Buggin-Out-Camps-2023.jpg
END:VEVENT
BEGIN:VEVENT
DTSTART;TZID=America/New_York:20230717T090000
DTEND;TZID=America/New_York:20230721T160000
DTSTAMP:20260425T075315
CREATED:20230314T161154Z
LAST-MODIFIED:20230712T153829Z
UID:10001063-1689584400-1689955200@cademuseum.org
SUMMARY:Buggin' Out Camp (Full Day): SOLD OUT
DESCRIPTION:There’s an entire kingdom of creatures all around us that make the world go round\, but they often go unnoticed. From chirping grasshoppers to beautiful butterflies or tiny ants\, insects play important roles in their homes all over the world. Discover a bug’s life and more with the Cade! \nRegister here.
URL:https://cademuseum.org/event/buggin-out-camp-full-day/
LOCATION:The Cade Museum\, 811 South Main Street\, Gainesville\, FL\, 32601\, United States
ATTACH;FMTTYPE=image/jpeg:https://cademuseum.org/wp-content/uploads/2023/03/Buggin-Out-Camps-2023.jpg
END:VEVENT
BEGIN:VEVENT
DTSTART;TZID=America/New_York:20230717T090000
DTEND;TZID=America/New_York:20230721T160000
DTSTAMP:20260425T075315
CREATED:20230314T161315Z
LAST-MODIFIED:20230712T153818Z
UID:10001064-1689584400-1689955200@cademuseum.org
SUMMARY:Ocean SEAcrets Camp (Full Day): SOLD OUT
DESCRIPTION:Jump into a submarine and explore the world under the waves! The ocean is home to so many different kinds of animals\, like Nemo and Dory! Zoom through coral reefs\, identify the creatures of the sea\, and even explore inventions that can capture the powerful energy of the ocean. \nRegister here.
URL:https://cademuseum.org/event/ocean-seacrets-camp-full-day/
LOCATION:The Cade Museum\, 811 South Main Street\, Gainesville\, FL\, 32601\, United States
ATTACH;FMTTYPE=image/jpeg:https://cademuseum.org/wp-content/uploads/2023/03/Ocean-SEAcrets-Camp-2023.jpg
END:VEVENT
END:VCALENDAR