BEGIN:VCALENDAR
VERSION:2.0
PRODID:-//Cade Museum for Creativity &amp; Invention - ECPv6.15.20//NONSGML v1.0//EN
CALSCALE:GREGORIAN
METHOD:PUBLISH
X-ORIGINAL-URL:https://cademuseum.org
X-WR-CALDESC:Events for Cade Museum for Creativity &amp; Invention
REFRESH-INTERVAL;VALUE=DURATION:PT1H
X-Robots-Tag:noindex
X-PUBLISHED-TTL:PT1H
BEGIN:VTIMEZONE
TZID:America/New_York
BEGIN:DAYLIGHT
TZOFFSETFROM:-0500
TZOFFSETTO:-0400
TZNAME:EDT
DTSTART:20220313T070000
END:DAYLIGHT
BEGIN:STANDARD
TZOFFSETFROM:-0400
TZOFFSETTO:-0500
TZNAME:EST
DTSTART:20221106T060000
END:STANDARD
BEGIN:DAYLIGHT
TZOFFSETFROM:-0500
TZOFFSETTO:-0400
TZNAME:EDT
DTSTART:20230312T070000
END:DAYLIGHT
BEGIN:STANDARD
TZOFFSETFROM:-0400
TZOFFSETTO:-0500
TZNAME:EST
DTSTART:20231105T060000
END:STANDARD
BEGIN:DAYLIGHT
TZOFFSETFROM:-0500
TZOFFSETTO:-0400
TZNAME:EDT
DTSTART:20240310T070000
END:DAYLIGHT
BEGIN:STANDARD
TZOFFSETFROM:-0400
TZOFFSETTO:-0500
TZNAME:EST
DTSTART:20241103T060000
END:STANDARD
END:VTIMEZONE
BEGIN:VEVENT
DTSTART;TZID=America/New_York:20230724T090000
DTEND;TZID=America/New_York:20230728T130000
DTSTAMP:20260425T075302
CREATED:20230314T161729Z
LAST-MODIFIED:20230620T203816Z
UID:10001068-1690189200-1690549200@cademuseum.org
SUMMARY:Chaotic Contraptions Camp (Half Day)
DESCRIPTION:A domino falls and a chain reaction begins! Work together on one giant contraption as your designs leap off the page to ignite a chain reaction machine! Be a part of a team that sets everything in motion as you all explore the forces that control our world. \nRegister here.
URL:https://cademuseum.org/event/chaotic-contraptions-camp-half-day/
LOCATION:The Cade Museum\, 811 South Main Street\, Gainesville\, FL\, 32601\, United States
ATTACH;FMTTYPE=image/jpeg:https://cademuseum.org/wp-content/uploads/2023/03/Chaotic-Contraptions-Camps-2023.jpg
END:VEVENT
BEGIN:VEVENT
DTSTART;TZID=America/New_York:20230724T090000
DTEND;TZID=America/New_York:20230728T160000
DTSTAMP:20260425T075302
CREATED:20230314T161528Z
LAST-MODIFIED:20230712T153807Z
UID:10001066-1690189200-1690560000@cademuseum.org
SUMMARY:Chaotic Contraptions Camp (Full Day): SOLD OUT
DESCRIPTION:A domino falls and a chain reaction begins! Work together on one giant contraption as your designs leap off the page to ignite a chain reaction machine! Be a part of a team that sets everything in motion as you all explore the forces that control our world. \nRegister here.
URL:https://cademuseum.org/event/chaotic-contraptions-camp-full-day/
LOCATION:The Cade Museum\, 811 South Main Street\, Gainesville\, FL\, 32601\, United States
ATTACH;FMTTYPE=image/jpeg:https://cademuseum.org/wp-content/uploads/2023/03/Chaotic-Contraptions-Camps-2023.jpg
END:VEVENT
BEGIN:VEVENT
DTSTART;TZID=America/New_York:20230724T090000
DTEND;TZID=America/New_York:20230728T160000
DTSTAMP:20260425T075302
CREATED:20230314T161651Z
LAST-MODIFIED:20230712T153754Z
UID:10001067-1690189200-1690560000@cademuseum.org
SUMMARY:The Perfect Solution Camp (Full Day): SOLD OUT
DESCRIPTION:Grab a beaker\, safety glasses\, and a lab coat\, and get ready to spark a curious chemical reaction! Conduct experiments\, investigate the states of matter\, and discover the building blocks of our world. Unlock your inner scientist as you mix and test your way through the field of chemistry. \nRegister here.
URL:https://cademuseum.org/event/the-perfect-solution-camp-full-day/
LOCATION:The Cade Museum\, 811 South Main Street\, Gainesville\, FL\, 32601\, United States
ATTACH;FMTTYPE=image/jpeg:https://cademuseum.org/wp-content/uploads/2023/03/The-Perfect-Solution-Camps-2023.jpg
END:VEVENT
END:VCALENDAR