BEGIN:VCALENDAR
VERSION:2.0
PRODID:-//Cade Museum for Creativity &amp; Invention - ECPv6.15.20//NONSGML v1.0//EN
CALSCALE:GREGORIAN
METHOD:PUBLISH
X-WR-CALNAME:Cade Museum for Creativity &amp; Invention
X-ORIGINAL-URL:https://cademuseum.org
X-WR-CALDESC:Events for Cade Museum for Creativity &amp; Invention
REFRESH-INTERVAL;VALUE=DURATION:PT1H
X-Robots-Tag:noindex
X-PUBLISHED-TTL:PT1H
BEGIN:VTIMEZONE
TZID:America/New_York
BEGIN:DAYLIGHT
TZOFFSETFROM:-0500
TZOFFSETTO:-0400
TZNAME:EDT
DTSTART:20220313T070000
END:DAYLIGHT
BEGIN:STANDARD
TZOFFSETFROM:-0400
TZOFFSETTO:-0500
TZNAME:EST
DTSTART:20221106T060000
END:STANDARD
BEGIN:DAYLIGHT
TZOFFSETFROM:-0500
TZOFFSETTO:-0400
TZNAME:EDT
DTSTART:20230312T070000
END:DAYLIGHT
BEGIN:STANDARD
TZOFFSETFROM:-0400
TZOFFSETTO:-0500
TZNAME:EST
DTSTART:20231105T060000
END:STANDARD
BEGIN:DAYLIGHT
TZOFFSETFROM:-0500
TZOFFSETTO:-0400
TZNAME:EDT
DTSTART:20240310T070000
END:DAYLIGHT
BEGIN:STANDARD
TZOFFSETFROM:-0400
TZOFFSETTO:-0500
TZNAME:EST
DTSTART:20241103T060000
END:STANDARD
END:VTIMEZONE
BEGIN:VEVENT
DTSTART;TZID=America/New_York:20231104T100000
DTEND;TZID=America/New_York:20231104T140000
DTSTAMP:20260423T093419
CREATED:20230914T185009Z
LAST-MODIFIED:20241007T152547Z
UID:10001662-1699092000-1699106400@cademuseum.org
SUMMARY:Food and Agriculture Festival
DESCRIPTION:Join the Cade Museum and the Alachua County Farm Bureau Young Farmers & Ranchers for another wonderful year of the Food and Agriculture Festival. Enjoy a day of fun and learning with several of Florida’s agricultural producers. There will be food trucks\, animals\, live music\, games\, vendors\, and fun for all ages! \nAdmission to the festival and the Cade Museum are FREE on this day. 
URL:https://cademuseum.org/event/food-and-agriculture-festival/
LOCATION:The Cade Museum\, 811 South Main Street\, Gainesville\, FL\, 32601\, United States
ATTACH;FMTTYPE=image/png:https://cademuseum.org/wp-content/uploads/2023/09/2023_AgFest_CalendarThumbnail-1.png
END:VEVENT
END:VCALENDAR