BEGIN:VCALENDAR
VERSION:2.0
PRODID:-//Cade Museum for Creativity &amp; Invention - ECPv6.15.20//NONSGML v1.0//EN
CALSCALE:GREGORIAN
METHOD:PUBLISH
X-ORIGINAL-URL:https://cademuseum.org
X-WR-CALDESC:Events for Cade Museum for Creativity &amp; Invention
REFRESH-INTERVAL;VALUE=DURATION:PT1H
X-Robots-Tag:noindex
X-PUBLISHED-TTL:PT1H
BEGIN:VTIMEZONE
TZID:America/New_York
BEGIN:DAYLIGHT
TZOFFSETFROM:-0500
TZOFFSETTO:-0400
TZNAME:EDT
DTSTART:20220313T070000
END:DAYLIGHT
BEGIN:STANDARD
TZOFFSETFROM:-0400
TZOFFSETTO:-0500
TZNAME:EST
DTSTART:20221106T060000
END:STANDARD
BEGIN:DAYLIGHT
TZOFFSETFROM:-0500
TZOFFSETTO:-0400
TZNAME:EDT
DTSTART:20230312T070000
END:DAYLIGHT
BEGIN:STANDARD
TZOFFSETFROM:-0400
TZOFFSETTO:-0500
TZNAME:EST
DTSTART:20231105T060000
END:STANDARD
BEGIN:DAYLIGHT
TZOFFSETFROM:-0500
TZOFFSETTO:-0400
TZNAME:EDT
DTSTART:20240310T070000
END:DAYLIGHT
BEGIN:STANDARD
TZOFFSETFROM:-0400
TZOFFSETTO:-0500
TZNAME:EST
DTSTART:20241103T060000
END:STANDARD
END:VTIMEZONE
BEGIN:VEVENT
DTSTART;VALUE=DATE:20231223
DTEND;VALUE=DATE:20231225
DTSTAMP:20260421T132201
CREATED:20231212T200409Z
LAST-MODIFIED:20231212T200409Z
UID:10001782-1703289600-1703462399@cademuseum.org
SUMMARY:Museum Closed
DESCRIPTION:The Cade Museum will be closed on Saturday\, December 23rd\, and Sunday\, December 24th in observance of the holidays. We will reopen on Thursday\, December 28th for normal museum hours (10am-4pm).
URL:https://cademuseum.org/event/museum-closed/
LOCATION:The Cade Museum\, 811 South Main Street\, Gainesville\, FL\, 32601\, United States
ATTACH;FMTTYPE=image/png:https://cademuseum.org/wp-content/uploads/2023/12/Museum-Closed.png
END:VEVENT
END:VCALENDAR