BEGIN:VCALENDAR
VERSION:2.0
PRODID:-//Cade Museum for Creativity &amp; Invention - ECPv6.15.20//NONSGML v1.0//EN
CALSCALE:GREGORIAN
METHOD:PUBLISH
X-WR-CALNAME:Cade Museum for Creativity &amp; Invention
X-ORIGINAL-URL:https://cademuseum.org
X-WR-CALDESC:Events for Cade Museum for Creativity &amp; Invention
REFRESH-INTERVAL;VALUE=DURATION:PT1H
X-Robots-Tag:noindex
X-PUBLISHED-TTL:PT1H
BEGIN:VTIMEZONE
TZID:America/New_York
BEGIN:DAYLIGHT
TZOFFSETFROM:-0500
TZOFFSETTO:-0400
TZNAME:EDT
DTSTART:20230312T070000
END:DAYLIGHT
BEGIN:STANDARD
TZOFFSETFROM:-0400
TZOFFSETTO:-0500
TZNAME:EST
DTSTART:20231105T060000
END:STANDARD
BEGIN:DAYLIGHT
TZOFFSETFROM:-0500
TZOFFSETTO:-0400
TZNAME:EDT
DTSTART:20240310T070000
END:DAYLIGHT
BEGIN:STANDARD
TZOFFSETFROM:-0400
TZOFFSETTO:-0500
TZNAME:EST
DTSTART:20241103T060000
END:STANDARD
BEGIN:DAYLIGHT
TZOFFSETFROM:-0500
TZOFFSETTO:-0400
TZNAME:EDT
DTSTART:20250309T070000
END:DAYLIGHT
BEGIN:STANDARD
TZOFFSETFROM:-0400
TZOFFSETTO:-0500
TZNAME:EST
DTSTART:20251102T060000
END:STANDARD
END:VTIMEZONE
BEGIN:VEVENT
DTSTART;TZID=America/New_York:20240428T160000
DTEND;TZID=America/New_York:20240428T190000
DTSTAMP:20260421T101754
CREATED:20240402T172704Z
LAST-MODIFIED:20240402T172704Z
UID:10001880-1714320000-1714330800@cademuseum.org
SUMMARY:Duke Ellington & Friends Sacred Jazz Concert & FREE Admission Day!
DESCRIPTION:1\,000 Voices of Florida presents the fifth annual Duke Ellington & Friends Sacred Jazz Concert! \nCome experience Ellington’s jubilant sound on the lawn of the museum and celebrate what would’ve been his 125th birthday with brassy horns\, tickled ivories\, and toe-tapping beats. \nLegendary bandleader Duke Ellington ascended the ranks of American jazz by reinventing the big-band sound. From Harlem’s Cotton Club to venues around the world\, Ellington’s orchestra delighted millions with gems like “It Don’t Mean a Thing (If It Ain’t Got That Swing)” and “Prelude to a Kiss\,” and spiritual music\, too. Ellington defied genre and tradition\, uniting music lovers of all lifestyles and backgrounds. \nThe concert is free — and admission to the museum will also be free all day. Please bring your own blankets and/or lawn chairs.
URL:https://cademuseum.org/event/duke-ellington-2024/
LOCATION:The Cade Museum\, 811 South Main Street\, Gainesville\, FL\, 32601\, United States
ATTACH;FMTTYPE=image/png:https://cademuseum.org/wp-content/uploads/2024/04/Duke-Ellington-Concert-2024.png
END:VEVENT
END:VCALENDAR