BEGIN:VCALENDAR
VERSION:2.0
PRODID:-//Cade Museum for Creativity &amp; Invention - ECPv6.15.20//NONSGML v1.0//EN
CALSCALE:GREGORIAN
METHOD:PUBLISH
X-ORIGINAL-URL:https://cademuseum.org
X-WR-CALDESC:Events for Cade Museum for Creativity &amp; Invention
REFRESH-INTERVAL;VALUE=DURATION:PT1H
X-Robots-Tag:noindex
X-PUBLISHED-TTL:PT1H
BEGIN:VTIMEZONE
TZID:America/New_York
BEGIN:DAYLIGHT
TZOFFSETFROM:-0500
TZOFFSETTO:-0400
TZNAME:EDT
DTSTART:20230312T070000
END:DAYLIGHT
BEGIN:STANDARD
TZOFFSETFROM:-0400
TZOFFSETTO:-0500
TZNAME:EST
DTSTART:20231105T060000
END:STANDARD
BEGIN:DAYLIGHT
TZOFFSETFROM:-0500
TZOFFSETTO:-0400
TZNAME:EDT
DTSTART:20240310T070000
END:DAYLIGHT
BEGIN:STANDARD
TZOFFSETFROM:-0400
TZOFFSETTO:-0500
TZNAME:EST
DTSTART:20241103T060000
END:STANDARD
BEGIN:DAYLIGHT
TZOFFSETFROM:-0500
TZOFFSETTO:-0400
TZNAME:EDT
DTSTART:20250309T070000
END:DAYLIGHT
BEGIN:STANDARD
TZOFFSETFROM:-0400
TZOFFSETTO:-0500
TZNAME:EST
DTSTART:20251102T060000
END:STANDARD
END:VTIMEZONE
BEGIN:VEVENT
DTSTART;TZID=America/New_York:20240511T110000
DTEND;TZID=America/New_York:20240511T140000
DTSTAMP:20260421T102142
CREATED:20240415T135355Z
LAST-MODIFIED:20240429T124112Z
UID:10001903-1715425200-1715436000@cademuseum.org
SUMMARY:6th Birthday Bash!
DESCRIPTION:Come make a splash at our birthday bash! We’re thrilled to offer FREE admission in celebration of the Cade Museum’s 6th birthday! Join us for the opening weekend of Ebb & Flow and enjoy a petting zoo\, photo booth\, and more! Gather your crew\, and let’s make this party one for the books! No pre-registration is required\, just show up and enjoy! Plus\, don’t miss out on special groups from the Center for Coastal Solutions at the University of Florida\, a captivating interactive talk\, and much more!
URL:https://cademuseum.org/event/6th-birthday-bash/
LOCATION:The Cade Museum\, 811 South Main Street\, Gainesville\, FL\, 32601\, United States
ATTACH;FMTTYPE=image/png:https://cademuseum.org/wp-content/uploads/2024/04/Birthday-Bash-1.png
END:VEVENT
BEGIN:VEVENT
DTSTART;TZID=America/New_York:20240511T113000
DTEND;TZID=America/New_York:20240511T123000
DTSTAMP:20260421T102142
CREATED:20240403T145719Z
LAST-MODIFIED:20240403T150045Z
UID:10001902-1715427000-1715430600@cademuseum.org
SUMMARY:Maker Workshop: Coding in Scratch
DESCRIPTION:Embark on a journey of innovation and exploration with our Maker Workshops at the Creation Station. Each week brings a new and exciting theme\, allowing participants to engage in hands-on maker sessions where they can build and create using a variety of materials\, electronics\, and coding platforms. Immerse yourself in the world of technology and creativity\, where each workshop is a unique adventure in the intersection of art\, science\, and technology. \nSuggested Participation Ages: 9 years old and up; children under the age of 14 must be accompanied by an adult for the duration of the workshop.  \nPrice: $5 per participant + cost of admission \nNo pre-registration required. Please visit the front desk of the museum on the day of your visit to purchase a ticket. Admission is required to purchase a ticket to the workshop.  \n 
URL:https://cademuseum.org/event/maker-workshop-coding-in-scratch/
LOCATION:The Cade Museum\, 811 South Main Street\, Gainesville\, FL\, 32601\, United States
ATTACH;FMTTYPE=image/png:https://cademuseum.org/wp-content/uploads/2023/12/Maker-Workshops-1920-X-1080-px-1.png
END:VEVENT
END:VCALENDAR