BEGIN:VCALENDAR
VERSION:2.0
PRODID:-//Cade Museum for Creativity &amp; Invention - ECPv6.15.20//NONSGML v1.0//EN
CALSCALE:GREGORIAN
METHOD:PUBLISH
X-WR-CALNAME:Cade Museum for Creativity &amp; Invention
X-ORIGINAL-URL:https://cademuseum.org
X-WR-CALDESC:Events for Cade Museum for Creativity &amp; Invention
REFRESH-INTERVAL;VALUE=DURATION:PT1H
X-Robots-Tag:noindex
X-PUBLISHED-TTL:PT1H
BEGIN:VTIMEZONE
TZID:America/New_York
BEGIN:DAYLIGHT
TZOFFSETFROM:-0500
TZOFFSETTO:-0400
TZNAME:EDT
DTSTART:20240310T070000
END:DAYLIGHT
BEGIN:STANDARD
TZOFFSETFROM:-0400
TZOFFSETTO:-0500
TZNAME:EST
DTSTART:20241103T060000
END:STANDARD
BEGIN:DAYLIGHT
TZOFFSETFROM:-0500
TZOFFSETTO:-0400
TZNAME:EDT
DTSTART:20250309T070000
END:DAYLIGHT
BEGIN:STANDARD
TZOFFSETFROM:-0400
TZOFFSETTO:-0500
TZNAME:EST
DTSTART:20251102T060000
END:STANDARD
BEGIN:DAYLIGHT
TZOFFSETFROM:-0500
TZOFFSETTO:-0400
TZNAME:EDT
DTSTART:20260308T070000
END:DAYLIGHT
BEGIN:STANDARD
TZOFFSETFROM:-0400
TZOFFSETTO:-0500
TZNAME:EST
DTSTART:20261101T060000
END:STANDARD
END:VTIMEZONE
BEGIN:VEVENT
DTSTART;TZID=America/New_York:20250327T101500
DTEND;TZID=America/New_York:20250327T110000
DTSTAMP:20260423T122058
CREATED:20250324T191607Z
LAST-MODIFIED:20250324T191607Z
UID:10003490-1743070500-1743073200@cademuseum.org
SUMMARY:Little Sparks
DESCRIPTION:A fun and interactive program that introduces littles (ages 0-5) to science concepts through music\, dancing\, crafting\, stories\, and more.\n​\nIncluded in the cost of admission\, no pre-registration required.
URL:https://cademuseum.org/event/little-sparks-12-2-3/2025-03-27/
ATTACH;FMTTYPE=image/jpeg:https://cademuseum.org/wp-content/uploads/2023/02/DSC_0142.jpg
END:VEVENT
BEGIN:VEVENT
DTSTART;TZID=America/New_York:20250327T130000
DTEND;TZID=America/New_York:20250327T150000
DTSTAMP:20260423T122058
CREATED:20241213T184315Z
LAST-MODIFIED:20250110T152459Z
UID:10003881-1743080400-1743087600@cademuseum.org
SUMMARY:SparkSeekers: Homeschool Adventures | LEGO Racers
DESCRIPTION:Are you racetrack ready? Put your engineering skills to the test as you design a LEGO car fit for the speedways. \nThe SparkSeekers program is designed to empower homeschooled students (ages 7–11) by immersing them in the captivating intersection of science and imagination through hands-on observation and experimentation. Participants will develop the skills to inquire and problem-solve\, drawing inspiration from the ingenious minds of history’s greatest inventors. With an exciting new theme each month\, there’s always a fresh opportunity for imaginative exploration and learning. \n\nPrice: $15 per student (ages 7–11) \nRegistration: Register online here or in-person at the front desk \nThis is a student drop-off program. Adults and children not participating in the program must purchase separate museum admission if they wish to explore the museum with the participant at the end of the program.
URL:https://cademuseum.org/event/sparkseekers-homeschool-adventures-12-6/
ATTACH;FMTTYPE=image/png:https://cademuseum.org/wp-content/uploads/2023/12/SparkSeekers-Homeschool-Adventures-1920-x-1080-px-1.png
END:VEVENT
END:VCALENDAR