BEGIN:VCALENDAR
VERSION:2.0
PRODID:-//Cade Museum for Creativity &amp; Invention - ECPv6.15.20//NONSGML v1.0//EN
CALSCALE:GREGORIAN
METHOD:PUBLISH
X-ORIGINAL-URL:https://cademuseum.org
X-WR-CALDESC:Events for Cade Museum for Creativity &amp; Invention
REFRESH-INTERVAL;VALUE=DURATION:PT1H
X-Robots-Tag:noindex
X-PUBLISHED-TTL:PT1H
BEGIN:VTIMEZONE
TZID:America/New_York
BEGIN:DAYLIGHT
TZOFFSETFROM:-0500
TZOFFSETTO:-0400
TZNAME:EDT
DTSTART:20240310T070000
END:DAYLIGHT
BEGIN:STANDARD
TZOFFSETFROM:-0400
TZOFFSETTO:-0500
TZNAME:EST
DTSTART:20241103T060000
END:STANDARD
BEGIN:DAYLIGHT
TZOFFSETFROM:-0500
TZOFFSETTO:-0400
TZNAME:EDT
DTSTART:20250309T070000
END:DAYLIGHT
BEGIN:STANDARD
TZOFFSETFROM:-0400
TZOFFSETTO:-0500
TZNAME:EST
DTSTART:20251102T060000
END:STANDARD
BEGIN:DAYLIGHT
TZOFFSETFROM:-0500
TZOFFSETTO:-0400
TZNAME:EDT
DTSTART:20260308T070000
END:DAYLIGHT
BEGIN:STANDARD
TZOFFSETFROM:-0400
TZOFFSETTO:-0500
TZNAME:EST
DTSTART:20261101T060000
END:STANDARD
END:VTIMEZONE
BEGIN:VEVENT
DTSTART;TZID=America/New_York:20250405T101500
DTEND;TZID=America/New_York:20250405T110000
DTSTAMP:20260419T093055
CREATED:20250324T191254Z
LAST-MODIFIED:20260330T192442Z
UID:10002742-1743848100-1743850800@cademuseum.org
SUMMARY:Little Sparks
DESCRIPTION:A fun and interactive program that introduces littles (ages 0-5) to science concepts through music\, dancing\, crafting\, stories\, and more.\n​\nIncluded in the cost of admission\, no pre-registration required.
URL:https://cademuseum.org/event/little-sparks-12-2-2/2025-04-05/
ATTACH;FMTTYPE=image/jpeg:https://cademuseum.org/wp-content/uploads/2023/02/DSC_0142.jpg
END:VEVENT
BEGIN:VEVENT
DTSTART;TZID=America/New_York:20250405T113000
DTEND;TZID=America/New_York:20250405T123000
DTSTAMP:20260419T093055
CREATED:20250110T180327Z
LAST-MODIFIED:20250110T180328Z
UID:10003901-1743852600-1743856200@cademuseum.org
SUMMARY:Maker Workshop: 3D Modeling
DESCRIPTION:Embark on a journey of innovation and exploration with our Maker Workshops at the Creation Station. Each week brings a new and exciting theme\, allowing participants to engage in hands-on maker sessions where they can build and create using a variety of materials\, electronics\, and coding platforms. Immerse yourself in the world of technology and creativity\, where each workshop is a unique adventure in the intersection of art\, science\, and technology. \nSuggested Participation Ages: 9 years old and up; children under the age of 14 must be accompanied by an adult for the duration of the workshop.  \nPrice: $5 per participant + cost of admission \nNo pre-registration required. Please visit the front desk of the museum on the day of your visit to purchase a ticket. Admission is required to purchase a ticket to the workshop. 
URL:https://cademuseum.org/event/maker-workshops-28-14/
ATTACH;FMTTYPE=image/jpeg:https://cademuseum.org/wp-content/uploads/2024/10/Calendar-Maker-Workshops.jpg
END:VEVENT
END:VCALENDAR