BEGIN:VCALENDAR
VERSION:2.0
PRODID:-//Cade Museum for Creativity &amp; Invention - ECPv6.15.20//NONSGML v1.0//EN
CALSCALE:GREGORIAN
METHOD:PUBLISH
X-WR-CALNAME:Cade Museum for Creativity &amp; Invention
X-ORIGINAL-URL:https://cademuseum.org
X-WR-CALDESC:Events for Cade Museum for Creativity &amp; Invention
REFRESH-INTERVAL;VALUE=DURATION:PT1H
X-Robots-Tag:noindex
X-PUBLISHED-TTL:PT1H
BEGIN:VTIMEZONE
TZID:America/New_York
BEGIN:DAYLIGHT
TZOFFSETFROM:-0500
TZOFFSETTO:-0400
TZNAME:EDT
DTSTART:20230312T070000
END:DAYLIGHT
BEGIN:STANDARD
TZOFFSETFROM:-0400
TZOFFSETTO:-0500
TZNAME:EST
DTSTART:20231105T060000
END:STANDARD
BEGIN:DAYLIGHT
TZOFFSETFROM:-0500
TZOFFSETTO:-0400
TZNAME:EDT
DTSTART:20240310T070000
END:DAYLIGHT
BEGIN:STANDARD
TZOFFSETFROM:-0400
TZOFFSETTO:-0500
TZNAME:EST
DTSTART:20241103T060000
END:STANDARD
BEGIN:DAYLIGHT
TZOFFSETFROM:-0500
TZOFFSETTO:-0400
TZNAME:EDT
DTSTART:20250309T070000
END:DAYLIGHT
BEGIN:STANDARD
TZOFFSETFROM:-0400
TZOFFSETTO:-0500
TZNAME:EST
DTSTART:20251102T060000
END:STANDARD
END:VTIMEZONE
BEGIN:VEVENT
DTSTART;TZID=America/New_York:20240102T090000
DTEND;TZID=America/New_York:20240105T160000
DTSTAMP:20260423T093418
CREATED:20230912T153740Z
LAST-MODIFIED:20231220T201927Z
UID:10001741-1704186000-1704470400@cademuseum.org
SUMMARY:Winter Cade Camps: Silly Seasons
DESCRIPTION:Winter\, Spring\, Summer\, Fall – times of the year that could mean a beach trip\, a snowy holiday\, or even a break from school! But why do we split the year up into seasons\, and how do they happen? Learn how different parts of the planet experience the seasons and how they affect our lives! \nRegistration closes 12/28/2023.  \nGrades: K-2nd \nPrice: $279 per student \nRegister here.  \nFor information about camp scholarships\, click here.
URL:https://cademuseum.org/event/winter-cade-camps-silly-seasons/
LOCATION:The Cade Museum\, 811 South Main Street\, Gainesville\, FL\, 32601\, United States
ATTACH;FMTTYPE=image/png:https://cademuseum.org/wp-content/uploads/2023/09/Silly-Seasons-Camp-Thumbnail.png
END:VEVENT
BEGIN:VEVENT
DTSTART;TZID=America/New_York:20240102T090000
DTEND;TZID=America/New_York:20240105T160000
DTSTAMP:20260423T093418
CREATED:20230912T154126Z
LAST-MODIFIED:20231220T202517Z
UID:10001742-1704186000-1704470400@cademuseum.org
SUMMARY:Winter Cade Camps: AI Explorers
DESCRIPTION:Hey Alexa\, sign me up to unlock the future! With robots that can learn like people\, there’s no end to the possibilities of Artificial Intelligence\, and they all begin with your imagination! Start your journey by navigating the ins and outs of Artificial Intelligence and learn about AI that’s changing our world. \nRegistration closes 12/28/2023.  \nGrades: 3rd-6th \nPrice: $279 per student \nRegister here.  \nFor information about camp scholarships\, click here.
URL:https://cademuseum.org/event/winter-cade-camps-ai-explorers/
LOCATION:The Cade Museum\, 811 South Main Street\, Gainesville\, FL\, 32601\, United States
ATTACH;FMTTYPE=image/png:https://cademuseum.org/wp-content/uploads/2023/09/AI-Explorers-Camp-Thumbnail.png
END:VEVENT
BEGIN:VEVENT
DTSTART;TZID=America/New_York:20240104T101500
DTEND;TZID=America/New_York:20240104T110000
DTSTAMP:20260423T093418
CREATED:20230227T223101Z
LAST-MODIFIED:20240322T155306Z
UID:10001196-1704363300-1704366000@cademuseum.org
SUMMARY:Little Sparks
DESCRIPTION:Little Sparks is a fun and interactive program that introduces littles (ages 0-5) to science concepts through music\, dancing\, crafting\, stories\, and more.\n​\nIncluded in the cost of admission\, no pre-registration required.
URL:https://cademuseum.org/event/little-sparks/2024-01-04/
ATTACH;FMTTYPE=image/jpeg:https://cademuseum.org/wp-content/uploads/2023/02/DSC_0142.jpg
END:VEVENT
BEGIN:VEVENT
DTSTART;TZID=America/New_York:20240106T101500
DTEND;TZID=America/New_York:20240106T110000
DTSTAMP:20260423T093418
CREATED:20230227T223101Z
LAST-MODIFIED:20240322T155306Z
UID:10001197-1704536100-1704538800@cademuseum.org
SUMMARY:Little Sparks
DESCRIPTION:Little Sparks is a fun and interactive program that introduces littles (ages 0-5) to science concepts through music\, dancing\, crafting\, stories\, and more.\n​\nIncluded in the cost of admission\, no pre-registration required.
URL:https://cademuseum.org/event/little-sparks/2024-01-06/
ATTACH;FMTTYPE=image/jpeg:https://cademuseum.org/wp-content/uploads/2023/02/DSC_0142.jpg
END:VEVENT
BEGIN:VEVENT
DTSTART;TZID=America/New_York:20240111T101500
DTEND;TZID=America/New_York:20240111T110000
DTSTAMP:20260423T093418
CREATED:20230227T223101Z
LAST-MODIFIED:20240322T155306Z
UID:10001198-1704968100-1704970800@cademuseum.org
SUMMARY:Little Sparks
DESCRIPTION:Little Sparks is a fun and interactive program that introduces littles (ages 0-5) to science concepts through music\, dancing\, crafting\, stories\, and more.\n​\nIncluded in the cost of admission\, no pre-registration required.
URL:https://cademuseum.org/event/little-sparks/2024-01-11/
ATTACH;FMTTYPE=image/jpeg:https://cademuseum.org/wp-content/uploads/2023/02/DSC_0142.jpg
END:VEVENT
BEGIN:VEVENT
DTSTART;TZID=America/New_York:20240113T101500
DTEND;TZID=America/New_York:20240113T110000
DTSTAMP:20260423T093418
CREATED:20230227T223101Z
LAST-MODIFIED:20240322T155306Z
UID:10001199-1705140900-1705143600@cademuseum.org
SUMMARY:Little Sparks
DESCRIPTION:Little Sparks is a fun and interactive program that introduces littles (ages 0-5) to science concepts through music\, dancing\, crafting\, stories\, and more.\n​\nIncluded in the cost of admission\, no pre-registration required.
URL:https://cademuseum.org/event/little-sparks/2024-01-13/
ATTACH;FMTTYPE=image/jpeg:https://cademuseum.org/wp-content/uploads/2023/02/DSC_0142.jpg
END:VEVENT
BEGIN:VEVENT
DTSTART;TZID=America/New_York:20240118T101500
DTEND;TZID=America/New_York:20240118T110000
DTSTAMP:20260423T093418
CREATED:20230227T223101Z
LAST-MODIFIED:20240322T155306Z
UID:10001200-1705572900-1705575600@cademuseum.org
SUMMARY:Little Sparks
DESCRIPTION:Little Sparks is a fun and interactive program that introduces littles (ages 0-5) to science concepts through music\, dancing\, crafting\, stories\, and more.\n​\nIncluded in the cost of admission\, no pre-registration required.
URL:https://cademuseum.org/event/little-sparks/2024-01-18/
ATTACH;FMTTYPE=image/jpeg:https://cademuseum.org/wp-content/uploads/2023/02/DSC_0142.jpg
END:VEVENT
BEGIN:VEVENT
DTSTART;TZID=America/New_York:20240120T101500
DTEND;TZID=America/New_York:20240120T110000
DTSTAMP:20260423T093418
CREATED:20230227T223101Z
LAST-MODIFIED:20240322T155306Z
UID:10001201-1705745700-1705748400@cademuseum.org
SUMMARY:Little Sparks
DESCRIPTION:Little Sparks is a fun and interactive program that introduces littles (ages 0-5) to science concepts through music\, dancing\, crafting\, stories\, and more.\n​\nIncluded in the cost of admission\, no pre-registration required.
URL:https://cademuseum.org/event/little-sparks/2024-01-20/
ATTACH;FMTTYPE=image/jpeg:https://cademuseum.org/wp-content/uploads/2023/02/DSC_0142.jpg
END:VEVENT
BEGIN:VEVENT
DTSTART;TZID=America/New_York:20240125T101500
DTEND;TZID=America/New_York:20240125T110000
DTSTAMP:20260423T093418
CREATED:20230227T223101Z
LAST-MODIFIED:20240322T155306Z
UID:10001202-1706177700-1706180400@cademuseum.org
SUMMARY:Little Sparks
DESCRIPTION:Little Sparks is a fun and interactive program that introduces littles (ages 0-5) to science concepts through music\, dancing\, crafting\, stories\, and more.\n​\nIncluded in the cost of admission\, no pre-registration required.
URL:https://cademuseum.org/event/little-sparks/2024-01-25/
ATTACH;FMTTYPE=image/jpeg:https://cademuseum.org/wp-content/uploads/2023/02/DSC_0142.jpg
END:VEVENT
BEGIN:VEVENT
DTSTART;TZID=America/New_York:20240127T100000
DTEND;TZID=America/New_York:20240128T160000
DTSTAMP:20260423T093418
CREATED:20240112T175656Z
LAST-MODIFIED:20240112T175656Z
UID:10001853-1706349600-1706457600@cademuseum.org
SUMMARY:Free Admission Days: Hoggetowne Goes Downtown
DESCRIPTION:The Cade Museum for Creativity and Invention has partnered with Hoggetowne Medieval Faire to provide FREE museum admission during the Hoggetowne Goes Downtown Faire from January 27–28\, 2024 at Gainesville’s Depot Park. \nArtisans and craftspeople shall ply their trades with skill\, olde world demonstrations shall enchant\, and the clash of swords in stage combat shall resonate through the air. Let not thy heart be heavy\, for medieval music and dance shall lift thy spirits\, and a living chessboard shall unfold its strategic dance. Witness royal knighting ceremonies with the King and Queen\, indulge in food court favorites\, and savor the timeless delight of turkey legs! \nMuseum Hours: 10am–4pm \nFaire Hours: 10am–6pm \nHoggetowne Goes Downtown is produced by City of Gainesville Parks\, Recreation and Cultural Affairs. 
URL:https://cademuseum.org/event/free-admission-days-hoggetowne-goes-downtown/
LOCATION:The Cade Museum\, 811 South Main Street\, Gainesville\, FL\, 32601\, United States
ATTACH;FMTTYPE=image/png:https://cademuseum.org/wp-content/uploads/2024/01/2023-1.png
END:VEVENT
END:VCALENDAR