BEGIN:VCALENDAR
VERSION:2.0
PRODID:-//Cade Museum for Creativity &amp; Invention - ECPv6.15.20//NONSGML v1.0//EN
CALSCALE:GREGORIAN
METHOD:PUBLISH
X-WR-CALNAME:Cade Museum for Creativity &amp; Invention
X-ORIGINAL-URL:https://cademuseum.org
X-WR-CALDESC:Events for Cade Museum for Creativity &amp; Invention
REFRESH-INTERVAL;VALUE=DURATION:PT1H
X-Robots-Tag:noindex
X-PUBLISHED-TTL:PT1H
BEGIN:VTIMEZONE
TZID:America/New_York
BEGIN:DAYLIGHT
TZOFFSETFROM:-0500
TZOFFSETTO:-0400
TZNAME:EDT
DTSTART:20260308T070000
END:DAYLIGHT
BEGIN:STANDARD
TZOFFSETFROM:-0400
TZOFFSETTO:-0500
TZNAME:EST
DTSTART:20261101T060000
END:STANDARD
BEGIN:DAYLIGHT
TZOFFSETFROM:-0500
TZOFFSETTO:-0400
TZNAME:EDT
DTSTART:20270314T070000
END:DAYLIGHT
BEGIN:STANDARD
TZOFFSETFROM:-0400
TZOFFSETTO:-0500
TZNAME:EST
DTSTART:20271107T060000
END:STANDARD
BEGIN:DAYLIGHT
TZOFFSETFROM:-0500
TZOFFSETTO:-0400
TZNAME:EDT
DTSTART:20280312T070000
END:DAYLIGHT
BEGIN:STANDARD
TZOFFSETFROM:-0400
TZOFFSETTO:-0500
TZNAME:EST
DTSTART:20281105T060000
END:STANDARD
END:VTIMEZONE
BEGIN:VEVENT
DTSTART;TZID=America/New_York:20270204T101500
DTEND;TZID=America/New_York:20270204T110000
DTSTAMP:20260422T081345
CREATED:20250324T191254Z
LAST-MODIFIED:20260330T192442Z
UID:10003587-1801736100-1801738800@cademuseum.org
SUMMARY:Little Sparks
DESCRIPTION:A fun and interactive program that introduces littles (ages 0-5) to science concepts through music\, dancing\, crafting\, stories\, and more.\n​\nIncluded in the cost of admission\, no pre-registration required.
URL:https://cademuseum.org/event/little-sparks-12-2-2/2027-02-04/
ATTACH;FMTTYPE=image/jpeg:https://cademuseum.org/wp-content/uploads/2023/02/DSC_0142.jpg
END:VEVENT
BEGIN:VEVENT
DTSTART;TZID=America/New_York:20270206T101500
DTEND;TZID=America/New_York:20270206T110000
DTSTAMP:20260422T081345
CREATED:20250324T191254Z
LAST-MODIFIED:20260330T192442Z
UID:10003030-1801908900-1801911600@cademuseum.org
SUMMARY:Little Sparks
DESCRIPTION:A fun and interactive program that introduces littles (ages 0-5) to science concepts through music\, dancing\, crafting\, stories\, and more.\n​\nIncluded in the cost of admission\, no pre-registration required.
URL:https://cademuseum.org/event/little-sparks-12-2-2/2027-02-06/
ATTACH;FMTTYPE=image/jpeg:https://cademuseum.org/wp-content/uploads/2023/02/DSC_0142.jpg
END:VEVENT
BEGIN:VEVENT
DTSTART;TZID=America/New_York:20270207T101500
DTEND;TZID=America/New_York:20270207T110000
DTSTAMP:20260422T081345
CREATED:20250324T191254Z
LAST-MODIFIED:20260330T192442Z
UID:10003031-1801995300-1801998000@cademuseum.org
SUMMARY:Little Sparks
DESCRIPTION:A fun and interactive program that introduces littles (ages 0-5) to science concepts through music\, dancing\, crafting\, stories\, and more.\n​\nIncluded in the cost of admission\, no pre-registration required.
URL:https://cademuseum.org/event/little-sparks-12-2-2/2027-02-07/
ATTACH;FMTTYPE=image/jpeg:https://cademuseum.org/wp-content/uploads/2023/02/DSC_0142.jpg
END:VEVENT
BEGIN:VEVENT
DTSTART;TZID=America/New_York:20270211T101500
DTEND;TZID=America/New_York:20270211T110000
DTSTAMP:20260422T081345
CREATED:20250324T191254Z
LAST-MODIFIED:20260330T192442Z
UID:10003588-1802340900-1802343600@cademuseum.org
SUMMARY:Little Sparks
DESCRIPTION:A fun and interactive program that introduces littles (ages 0-5) to science concepts through music\, dancing\, crafting\, stories\, and more.\n​\nIncluded in the cost of admission\, no pre-registration required.
URL:https://cademuseum.org/event/little-sparks-12-2-2/2027-02-11/
ATTACH;FMTTYPE=image/jpeg:https://cademuseum.org/wp-content/uploads/2023/02/DSC_0142.jpg
END:VEVENT
BEGIN:VEVENT
DTSTART;TZID=America/New_York:20270213T101500
DTEND;TZID=America/New_York:20270213T110000
DTSTAMP:20260422T081345
CREATED:20250324T191254Z
LAST-MODIFIED:20260330T192442Z
UID:10003033-1802513700-1802516400@cademuseum.org
SUMMARY:Little Sparks
DESCRIPTION:A fun and interactive program that introduces littles (ages 0-5) to science concepts through music\, dancing\, crafting\, stories\, and more.\n​\nIncluded in the cost of admission\, no pre-registration required.
URL:https://cademuseum.org/event/little-sparks-12-2-2/2027-02-13/
ATTACH;FMTTYPE=image/jpeg:https://cademuseum.org/wp-content/uploads/2023/02/DSC_0142.jpg
END:VEVENT
BEGIN:VEVENT
DTSTART;TZID=America/New_York:20270214T101500
DTEND;TZID=America/New_York:20270214T110000
DTSTAMP:20260422T081345
CREATED:20250324T191254Z
LAST-MODIFIED:20260330T192442Z
UID:10003034-1802600100-1802602800@cademuseum.org
SUMMARY:Little Sparks
DESCRIPTION:A fun and interactive program that introduces littles (ages 0-5) to science concepts through music\, dancing\, crafting\, stories\, and more.\n​\nIncluded in the cost of admission\, no pre-registration required.
URL:https://cademuseum.org/event/little-sparks-12-2-2/2027-02-14/
ATTACH;FMTTYPE=image/jpeg:https://cademuseum.org/wp-content/uploads/2023/02/DSC_0142.jpg
END:VEVENT
BEGIN:VEVENT
DTSTART;TZID=America/New_York:20270218T101500
DTEND;TZID=America/New_York:20270218T110000
DTSTAMP:20260422T081345
CREATED:20250324T191254Z
LAST-MODIFIED:20260330T192442Z
UID:10003589-1802945700-1802948400@cademuseum.org
SUMMARY:Little Sparks
DESCRIPTION:A fun and interactive program that introduces littles (ages 0-5) to science concepts through music\, dancing\, crafting\, stories\, and more.\n​\nIncluded in the cost of admission\, no pre-registration required.
URL:https://cademuseum.org/event/little-sparks-12-2-2/2027-02-18/
ATTACH;FMTTYPE=image/jpeg:https://cademuseum.org/wp-content/uploads/2023/02/DSC_0142.jpg
END:VEVENT
BEGIN:VEVENT
DTSTART;TZID=America/New_York:20270220T101500
DTEND;TZID=America/New_York:20270220T110000
DTSTAMP:20260422T081345
CREATED:20250324T191254Z
LAST-MODIFIED:20260330T192442Z
UID:10003036-1803118500-1803121200@cademuseum.org
SUMMARY:Little Sparks
DESCRIPTION:A fun and interactive program that introduces littles (ages 0-5) to science concepts through music\, dancing\, crafting\, stories\, and more.\n​\nIncluded in the cost of admission\, no pre-registration required.
URL:https://cademuseum.org/event/little-sparks-12-2-2/2027-02-20/
ATTACH;FMTTYPE=image/jpeg:https://cademuseum.org/wp-content/uploads/2023/02/DSC_0142.jpg
END:VEVENT
BEGIN:VEVENT
DTSTART;TZID=America/New_York:20270221T101500
DTEND;TZID=America/New_York:20270221T110000
DTSTAMP:20260422T081345
CREATED:20250324T191254Z
LAST-MODIFIED:20260330T192442Z
UID:10003037-1803204900-1803207600@cademuseum.org
SUMMARY:Little Sparks
DESCRIPTION:A fun and interactive program that introduces littles (ages 0-5) to science concepts through music\, dancing\, crafting\, stories\, and more.\n​\nIncluded in the cost of admission\, no pre-registration required.
URL:https://cademuseum.org/event/little-sparks-12-2-2/2027-02-21/
ATTACH;FMTTYPE=image/jpeg:https://cademuseum.org/wp-content/uploads/2023/02/DSC_0142.jpg
END:VEVENT
BEGIN:VEVENT
DTSTART;TZID=America/New_York:20270225T101500
DTEND;TZID=America/New_York:20270225T110000
DTSTAMP:20260422T081345
CREATED:20250324T191254Z
LAST-MODIFIED:20260330T192442Z
UID:10003590-1803550500-1803553200@cademuseum.org
SUMMARY:Little Sparks
DESCRIPTION:A fun and interactive program that introduces littles (ages 0-5) to science concepts through music\, dancing\, crafting\, stories\, and more.\n​\nIncluded in the cost of admission\, no pre-registration required.
URL:https://cademuseum.org/event/little-sparks-12-2-2/2027-02-25/
ATTACH;FMTTYPE=image/jpeg:https://cademuseum.org/wp-content/uploads/2023/02/DSC_0142.jpg
END:VEVENT
BEGIN:VEVENT
DTSTART;TZID=America/New_York:20270227T101500
DTEND;TZID=America/New_York:20270227T110000
DTSTAMP:20260422T081345
CREATED:20250324T191254Z
LAST-MODIFIED:20260330T192442Z
UID:10003039-1803723300-1803726000@cademuseum.org
SUMMARY:Little Sparks
DESCRIPTION:A fun and interactive program that introduces littles (ages 0-5) to science concepts through music\, dancing\, crafting\, stories\, and more.\n​\nIncluded in the cost of admission\, no pre-registration required.
URL:https://cademuseum.org/event/little-sparks-12-2-2/2027-02-27/
ATTACH;FMTTYPE=image/jpeg:https://cademuseum.org/wp-content/uploads/2023/02/DSC_0142.jpg
END:VEVENT
BEGIN:VEVENT
DTSTART;TZID=America/New_York:20270228T101500
DTEND;TZID=America/New_York:20270228T110000
DTSTAMP:20260422T081345
CREATED:20250324T191254Z
LAST-MODIFIED:20260330T192442Z
UID:10003040-1803809700-1803812400@cademuseum.org
SUMMARY:Little Sparks
DESCRIPTION:A fun and interactive program that introduces littles (ages 0-5) to science concepts through music\, dancing\, crafting\, stories\, and more.\n​\nIncluded in the cost of admission\, no pre-registration required.
URL:https://cademuseum.org/event/little-sparks-12-2-2/2027-02-28/
ATTACH;FMTTYPE=image/jpeg:https://cademuseum.org/wp-content/uploads/2023/02/DSC_0142.jpg
END:VEVENT
END:VCALENDAR