BEGIN:VCALENDAR
VERSION:2.0
PRODID:-//Cade Museum for Creativity &amp; Invention - ECPv6.15.20//NONSGML v1.0//EN
CALSCALE:GREGORIAN
METHOD:PUBLISH
X-WR-CALNAME:Cade Museum for Creativity &amp; Invention
X-ORIGINAL-URL:https://cademuseum.org
X-WR-CALDESC:Events for Cade Museum for Creativity &amp; Invention
REFRESH-INTERVAL;VALUE=DURATION:PT1H
X-Robots-Tag:noindex
X-PUBLISHED-TTL:PT1H
BEGIN:VTIMEZONE
TZID:America/New_York
BEGIN:DAYLIGHT
TZOFFSETFROM:-0500
TZOFFSETTO:-0400
TZNAME:EDT
DTSTART:20260308T070000
END:DAYLIGHT
BEGIN:STANDARD
TZOFFSETFROM:-0400
TZOFFSETTO:-0500
TZNAME:EST
DTSTART:20261101T060000
END:STANDARD
BEGIN:DAYLIGHT
TZOFFSETFROM:-0500
TZOFFSETTO:-0400
TZNAME:EDT
DTSTART:20270314T070000
END:DAYLIGHT
BEGIN:STANDARD
TZOFFSETFROM:-0400
TZOFFSETTO:-0500
TZNAME:EST
DTSTART:20271107T060000
END:STANDARD
BEGIN:DAYLIGHT
TZOFFSETFROM:-0500
TZOFFSETTO:-0400
TZNAME:EDT
DTSTART:20280312T070000
END:DAYLIGHT
BEGIN:STANDARD
TZOFFSETFROM:-0400
TZOFFSETTO:-0500
TZNAME:EST
DTSTART:20281105T060000
END:STANDARD
END:VTIMEZONE
BEGIN:VEVENT
DTSTART;TZID=America/New_York:20271002T101500
DTEND;TZID=America/New_York:20271002T110000
DTSTAMP:20260423T140430
CREATED:20250324T191254Z
LAST-MODIFIED:20260330T192442Z
UID:10003132-1822472100-1822474800@cademuseum.org
SUMMARY:Little Sparks
DESCRIPTION:A fun and interactive program that introduces littles (ages 0-5) to science concepts through music\, dancing\, crafting\, stories\, and more.\n​\nIncluded in the cost of admission\, no pre-registration required.
URL:https://cademuseum.org/event/little-sparks-12-2-2/2027-10-02/
ATTACH;FMTTYPE=image/jpeg:https://cademuseum.org/wp-content/uploads/2023/02/DSC_0142.jpg
END:VEVENT
BEGIN:VEVENT
DTSTART;TZID=America/New_York:20271003T101500
DTEND;TZID=America/New_York:20271003T110000
DTSTAMP:20260423T140431
CREATED:20250324T191254Z
LAST-MODIFIED:20260330T192442Z
UID:10003133-1822558500-1822561200@cademuseum.org
SUMMARY:Little Sparks
DESCRIPTION:A fun and interactive program that introduces littles (ages 0-5) to science concepts through music\, dancing\, crafting\, stories\, and more.\n​\nIncluded in the cost of admission\, no pre-registration required.
URL:https://cademuseum.org/event/little-sparks-12-2-2/2027-10-03/
ATTACH;FMTTYPE=image/jpeg:https://cademuseum.org/wp-content/uploads/2023/02/DSC_0142.jpg
END:VEVENT
BEGIN:VEVENT
DTSTART;TZID=America/New_York:20271007T101500
DTEND;TZID=America/New_York:20271007T110000
DTSTAMP:20260423T140431
CREATED:20250324T191254Z
LAST-MODIFIED:20260330T192442Z
UID:10003622-1822904100-1822906800@cademuseum.org
SUMMARY:Little Sparks
DESCRIPTION:A fun and interactive program that introduces littles (ages 0-5) to science concepts through music\, dancing\, crafting\, stories\, and more.\n​\nIncluded in the cost of admission\, no pre-registration required.
URL:https://cademuseum.org/event/little-sparks-12-2-2/2027-10-07/
ATTACH;FMTTYPE=image/jpeg:https://cademuseum.org/wp-content/uploads/2023/02/DSC_0142.jpg
END:VEVENT
BEGIN:VEVENT
DTSTART;TZID=America/New_York:20271009T101500
DTEND;TZID=America/New_York:20271009T110000
DTSTAMP:20260423T140431
CREATED:20250324T191254Z
LAST-MODIFIED:20260330T192442Z
UID:10003135-1823076900-1823079600@cademuseum.org
SUMMARY:Little Sparks
DESCRIPTION:A fun and interactive program that introduces littles (ages 0-5) to science concepts through music\, dancing\, crafting\, stories\, and more.\n​\nIncluded in the cost of admission\, no pre-registration required.
URL:https://cademuseum.org/event/little-sparks-12-2-2/2027-10-09/
ATTACH;FMTTYPE=image/jpeg:https://cademuseum.org/wp-content/uploads/2023/02/DSC_0142.jpg
END:VEVENT
BEGIN:VEVENT
DTSTART;TZID=America/New_York:20271010T101500
DTEND;TZID=America/New_York:20271010T110000
DTSTAMP:20260423T140431
CREATED:20250324T191254Z
LAST-MODIFIED:20260330T192442Z
UID:10003136-1823163300-1823166000@cademuseum.org
SUMMARY:Little Sparks
DESCRIPTION:A fun and interactive program that introduces littles (ages 0-5) to science concepts through music\, dancing\, crafting\, stories\, and more.\n​\nIncluded in the cost of admission\, no pre-registration required.
URL:https://cademuseum.org/event/little-sparks-12-2-2/2027-10-10/
ATTACH;FMTTYPE=image/jpeg:https://cademuseum.org/wp-content/uploads/2023/02/DSC_0142.jpg
END:VEVENT
BEGIN:VEVENT
DTSTART;TZID=America/New_York:20271014T101500
DTEND;TZID=America/New_York:20271014T110000
DTSTAMP:20260423T140431
CREATED:20250324T191254Z
LAST-MODIFIED:20260330T192442Z
UID:10003623-1823508900-1823511600@cademuseum.org
SUMMARY:Little Sparks
DESCRIPTION:A fun and interactive program that introduces littles (ages 0-5) to science concepts through music\, dancing\, crafting\, stories\, and more.\n​\nIncluded in the cost of admission\, no pre-registration required.
URL:https://cademuseum.org/event/little-sparks-12-2-2/2027-10-14/
ATTACH;FMTTYPE=image/jpeg:https://cademuseum.org/wp-content/uploads/2023/02/DSC_0142.jpg
END:VEVENT
BEGIN:VEVENT
DTSTART;TZID=America/New_York:20271016T101500
DTEND;TZID=America/New_York:20271016T110000
DTSTAMP:20260423T140431
CREATED:20250324T191254Z
LAST-MODIFIED:20260330T192442Z
UID:10003138-1823681700-1823684400@cademuseum.org
SUMMARY:Little Sparks
DESCRIPTION:A fun and interactive program that introduces littles (ages 0-5) to science concepts through music\, dancing\, crafting\, stories\, and more.\n​\nIncluded in the cost of admission\, no pre-registration required.
URL:https://cademuseum.org/event/little-sparks-12-2-2/2027-10-16/
ATTACH;FMTTYPE=image/jpeg:https://cademuseum.org/wp-content/uploads/2023/02/DSC_0142.jpg
END:VEVENT
BEGIN:VEVENT
DTSTART;TZID=America/New_York:20271017T101500
DTEND;TZID=America/New_York:20271017T110000
DTSTAMP:20260423T140431
CREATED:20250324T191254Z
LAST-MODIFIED:20260330T192442Z
UID:10003139-1823768100-1823770800@cademuseum.org
SUMMARY:Little Sparks
DESCRIPTION:A fun and interactive program that introduces littles (ages 0-5) to science concepts through music\, dancing\, crafting\, stories\, and more.\n​\nIncluded in the cost of admission\, no pre-registration required.
URL:https://cademuseum.org/event/little-sparks-12-2-2/2027-10-17/
ATTACH;FMTTYPE=image/jpeg:https://cademuseum.org/wp-content/uploads/2023/02/DSC_0142.jpg
END:VEVENT
BEGIN:VEVENT
DTSTART;TZID=America/New_York:20271021T101500
DTEND;TZID=America/New_York:20271021T110000
DTSTAMP:20260423T140431
CREATED:20250324T191254Z
LAST-MODIFIED:20260330T192442Z
UID:10003624-1824113700-1824116400@cademuseum.org
SUMMARY:Little Sparks
DESCRIPTION:A fun and interactive program that introduces littles (ages 0-5) to science concepts through music\, dancing\, crafting\, stories\, and more.\n​\nIncluded in the cost of admission\, no pre-registration required.
URL:https://cademuseum.org/event/little-sparks-12-2-2/2027-10-21/
ATTACH;FMTTYPE=image/jpeg:https://cademuseum.org/wp-content/uploads/2023/02/DSC_0142.jpg
END:VEVENT
BEGIN:VEVENT
DTSTART;TZID=America/New_York:20271023T101500
DTEND;TZID=America/New_York:20271023T110000
DTSTAMP:20260423T140431
CREATED:20250324T191254Z
LAST-MODIFIED:20260330T192442Z
UID:10003141-1824286500-1824289200@cademuseum.org
SUMMARY:Little Sparks
DESCRIPTION:A fun and interactive program that introduces littles (ages 0-5) to science concepts through music\, dancing\, crafting\, stories\, and more.\n​\nIncluded in the cost of admission\, no pre-registration required.
URL:https://cademuseum.org/event/little-sparks-12-2-2/2027-10-23/
ATTACH;FMTTYPE=image/jpeg:https://cademuseum.org/wp-content/uploads/2023/02/DSC_0142.jpg
END:VEVENT
BEGIN:VEVENT
DTSTART;TZID=America/New_York:20271024T101500
DTEND;TZID=America/New_York:20271024T110000
DTSTAMP:20260423T140431
CREATED:20250324T191254Z
LAST-MODIFIED:20260330T192442Z
UID:10003142-1824372900-1824375600@cademuseum.org
SUMMARY:Little Sparks
DESCRIPTION:A fun and interactive program that introduces littles (ages 0-5) to science concepts through music\, dancing\, crafting\, stories\, and more.\n​\nIncluded in the cost of admission\, no pre-registration required.
URL:https://cademuseum.org/event/little-sparks-12-2-2/2027-10-24/
ATTACH;FMTTYPE=image/jpeg:https://cademuseum.org/wp-content/uploads/2023/02/DSC_0142.jpg
END:VEVENT
BEGIN:VEVENT
DTSTART;TZID=America/New_York:20271028T101500
DTEND;TZID=America/New_York:20271028T110000
DTSTAMP:20260423T140431
CREATED:20250324T191254Z
LAST-MODIFIED:20260330T192442Z
UID:10003625-1824718500-1824721200@cademuseum.org
SUMMARY:Little Sparks
DESCRIPTION:A fun and interactive program that introduces littles (ages 0-5) to science concepts through music\, dancing\, crafting\, stories\, and more.\n​\nIncluded in the cost of admission\, no pre-registration required.
URL:https://cademuseum.org/event/little-sparks-12-2-2/2027-10-28/
ATTACH;FMTTYPE=image/jpeg:https://cademuseum.org/wp-content/uploads/2023/02/DSC_0142.jpg
END:VEVENT
BEGIN:VEVENT
DTSTART;TZID=America/New_York:20271030T101500
DTEND;TZID=America/New_York:20271030T110000
DTSTAMP:20260423T140431
CREATED:20250324T191254Z
LAST-MODIFIED:20260330T192442Z
UID:10003144-1824891300-1824894000@cademuseum.org
SUMMARY:Little Sparks
DESCRIPTION:A fun and interactive program that introduces littles (ages 0-5) to science concepts through music\, dancing\, crafting\, stories\, and more.\n​\nIncluded in the cost of admission\, no pre-registration required.
URL:https://cademuseum.org/event/little-sparks-12-2-2/2027-10-30/
ATTACH;FMTTYPE=image/jpeg:https://cademuseum.org/wp-content/uploads/2023/02/DSC_0142.jpg
END:VEVENT
BEGIN:VEVENT
DTSTART;TZID=America/New_York:20271031T101500
DTEND;TZID=America/New_York:20271031T110000
DTSTAMP:20260423T140431
CREATED:20250324T191254Z
LAST-MODIFIED:20260330T192442Z
UID:10003145-1824977700-1824980400@cademuseum.org
SUMMARY:Little Sparks
DESCRIPTION:A fun and interactive program that introduces littles (ages 0-5) to science concepts through music\, dancing\, crafting\, stories\, and more.\n​\nIncluded in the cost of admission\, no pre-registration required.
URL:https://cademuseum.org/event/little-sparks-12-2-2/2027-10-31/
ATTACH;FMTTYPE=image/jpeg:https://cademuseum.org/wp-content/uploads/2023/02/DSC_0142.jpg
END:VEVENT
END:VCALENDAR