BEGIN:VCALENDAR
VERSION:2.0
PRODID:-//Cade Museum for Creativity &amp; Invention - ECPv6.15.20//NONSGML v1.0//EN
CALSCALE:GREGORIAN
METHOD:PUBLISH
X-ORIGINAL-URL:https://cademuseum.org
X-WR-CALDESC:Events for Cade Museum for Creativity &amp; Invention
REFRESH-INTERVAL;VALUE=DURATION:PT1H
X-Robots-Tag:noindex
X-PUBLISHED-TTL:PT1H
BEGIN:VTIMEZONE
TZID:America/New_York
BEGIN:DAYLIGHT
TZOFFSETFROM:-0500
TZOFFSETTO:-0400
TZNAME:EDT
DTSTART:20270314T070000
END:DAYLIGHT
BEGIN:STANDARD
TZOFFSETFROM:-0400
TZOFFSETTO:-0500
TZNAME:EST
DTSTART:20271107T060000
END:STANDARD
BEGIN:DAYLIGHT
TZOFFSETFROM:-0500
TZOFFSETTO:-0400
TZNAME:EDT
DTSTART:20280312T070000
END:DAYLIGHT
BEGIN:STANDARD
TZOFFSETFROM:-0400
TZOFFSETTO:-0500
TZNAME:EST
DTSTART:20281105T060000
END:STANDARD
BEGIN:DAYLIGHT
TZOFFSETFROM:-0500
TZOFFSETTO:-0400
TZNAME:EDT
DTSTART:20290311T070000
END:DAYLIGHT
BEGIN:STANDARD
TZOFFSETFROM:-0400
TZOFFSETTO:-0500
TZNAME:EST
DTSTART:20291104T060000
END:STANDARD
END:VTIMEZONE
BEGIN:VEVENT
DTSTART;TZID=America/New_York:20281102T101500
DTEND;TZID=America/New_York:20281102T110000
DTSTAMP:20260421T092330
CREATED:20250324T191254Z
LAST-MODIFIED:20260330T192442Z
UID:10003678-1856772900-1856775600@cademuseum.org
SUMMARY:Little Sparks
DESCRIPTION:A fun and interactive program that introduces littles (ages 0-5) to science concepts through music\, dancing\, crafting\, stories\, and more.\n​\nIncluded in the cost of admission\, no pre-registration required.
URL:https://cademuseum.org/event/little-sparks-12-2-2/2028-11-02/
ATTACH;FMTTYPE=image/jpeg:https://cademuseum.org/wp-content/uploads/2023/02/DSC_0142.jpg
END:VEVENT
BEGIN:VEVENT
DTSTART;TZID=America/New_York:20281104T101500
DTEND;TZID=America/New_York:20281104T110000
DTSTAMP:20260421T092330
CREATED:20250324T191254Z
LAST-MODIFIED:20260330T192442Z
UID:10003303-1856945700-1856948400@cademuseum.org
SUMMARY:Little Sparks
DESCRIPTION:A fun and interactive program that introduces littles (ages 0-5) to science concepts through music\, dancing\, crafting\, stories\, and more.\n​\nIncluded in the cost of admission\, no pre-registration required.
URL:https://cademuseum.org/event/little-sparks-12-2-2/2028-11-04/
ATTACH;FMTTYPE=image/jpeg:https://cademuseum.org/wp-content/uploads/2023/02/DSC_0142.jpg
END:VEVENT
BEGIN:VEVENT
DTSTART;TZID=America/New_York:20281105T101500
DTEND;TZID=America/New_York:20281105T110000
DTSTAMP:20260421T092330
CREATED:20250324T191254Z
LAST-MODIFIED:20260330T192442Z
UID:10003304-1857032100-1857034800@cademuseum.org
SUMMARY:Little Sparks
DESCRIPTION:A fun and interactive program that introduces littles (ages 0-5) to science concepts through music\, dancing\, crafting\, stories\, and more.\n​\nIncluded in the cost of admission\, no pre-registration required.
URL:https://cademuseum.org/event/little-sparks-12-2-2/2028-11-05/
ATTACH;FMTTYPE=image/jpeg:https://cademuseum.org/wp-content/uploads/2023/02/DSC_0142.jpg
END:VEVENT
BEGIN:VEVENT
DTSTART;TZID=America/New_York:20281109T101500
DTEND;TZID=America/New_York:20281109T110000
DTSTAMP:20260421T092330
CREATED:20250324T191254Z
LAST-MODIFIED:20260330T192442Z
UID:10003679-1857377700-1857380400@cademuseum.org
SUMMARY:Little Sparks
DESCRIPTION:A fun and interactive program that introduces littles (ages 0-5) to science concepts through music\, dancing\, crafting\, stories\, and more.\n​\nIncluded in the cost of admission\, no pre-registration required.
URL:https://cademuseum.org/event/little-sparks-12-2-2/2028-11-09/
ATTACH;FMTTYPE=image/jpeg:https://cademuseum.org/wp-content/uploads/2023/02/DSC_0142.jpg
END:VEVENT
BEGIN:VEVENT
DTSTART;TZID=America/New_York:20281111T101500
DTEND;TZID=America/New_York:20281111T110000
DTSTAMP:20260421T092330
CREATED:20250324T191254Z
LAST-MODIFIED:20260330T192442Z
UID:10003306-1857550500-1857553200@cademuseum.org
SUMMARY:Little Sparks
DESCRIPTION:A fun and interactive program that introduces littles (ages 0-5) to science concepts through music\, dancing\, crafting\, stories\, and more.\n​\nIncluded in the cost of admission\, no pre-registration required.
URL:https://cademuseum.org/event/little-sparks-12-2-2/2028-11-11/
ATTACH;FMTTYPE=image/jpeg:https://cademuseum.org/wp-content/uploads/2023/02/DSC_0142.jpg
END:VEVENT
BEGIN:VEVENT
DTSTART;TZID=America/New_York:20281112T101500
DTEND;TZID=America/New_York:20281112T110000
DTSTAMP:20260421T092330
CREATED:20250324T191254Z
LAST-MODIFIED:20260330T192442Z
UID:10003307-1857636900-1857639600@cademuseum.org
SUMMARY:Little Sparks
DESCRIPTION:A fun and interactive program that introduces littles (ages 0-5) to science concepts through music\, dancing\, crafting\, stories\, and more.\n​\nIncluded in the cost of admission\, no pre-registration required.
URL:https://cademuseum.org/event/little-sparks-12-2-2/2028-11-12/
ATTACH;FMTTYPE=image/jpeg:https://cademuseum.org/wp-content/uploads/2023/02/DSC_0142.jpg
END:VEVENT
BEGIN:VEVENT
DTSTART;TZID=America/New_York:20281116T101500
DTEND;TZID=America/New_York:20281116T110000
DTSTAMP:20260421T092330
CREATED:20250324T191254Z
LAST-MODIFIED:20260330T192442Z
UID:10003680-1857982500-1857985200@cademuseum.org
SUMMARY:Little Sparks
DESCRIPTION:A fun and interactive program that introduces littles (ages 0-5) to science concepts through music\, dancing\, crafting\, stories\, and more.\n​\nIncluded in the cost of admission\, no pre-registration required.
URL:https://cademuseum.org/event/little-sparks-12-2-2/2028-11-16/
ATTACH;FMTTYPE=image/jpeg:https://cademuseum.org/wp-content/uploads/2023/02/DSC_0142.jpg
END:VEVENT
BEGIN:VEVENT
DTSTART;TZID=America/New_York:20281118T101500
DTEND;TZID=America/New_York:20281118T110000
DTSTAMP:20260421T092330
CREATED:20250324T191254Z
LAST-MODIFIED:20260330T192442Z
UID:10003309-1858155300-1858158000@cademuseum.org
SUMMARY:Little Sparks
DESCRIPTION:A fun and interactive program that introduces littles (ages 0-5) to science concepts through music\, dancing\, crafting\, stories\, and more.\n​\nIncluded in the cost of admission\, no pre-registration required.
URL:https://cademuseum.org/event/little-sparks-12-2-2/2028-11-18/
ATTACH;FMTTYPE=image/jpeg:https://cademuseum.org/wp-content/uploads/2023/02/DSC_0142.jpg
END:VEVENT
BEGIN:VEVENT
DTSTART;TZID=America/New_York:20281119T101500
DTEND;TZID=America/New_York:20281119T110000
DTSTAMP:20260421T092330
CREATED:20250324T191254Z
LAST-MODIFIED:20260330T192442Z
UID:10003310-1858241700-1858244400@cademuseum.org
SUMMARY:Little Sparks
DESCRIPTION:A fun and interactive program that introduces littles (ages 0-5) to science concepts through music\, dancing\, crafting\, stories\, and more.\n​\nIncluded in the cost of admission\, no pre-registration required.
URL:https://cademuseum.org/event/little-sparks-12-2-2/2028-11-19/
ATTACH;FMTTYPE=image/jpeg:https://cademuseum.org/wp-content/uploads/2023/02/DSC_0142.jpg
END:VEVENT
BEGIN:VEVENT
DTSTART;TZID=America/New_York:20281123T101500
DTEND;TZID=America/New_York:20281123T110000
DTSTAMP:20260421T092330
CREATED:20250324T191254Z
LAST-MODIFIED:20260330T192442Z
UID:10003681-1858587300-1858590000@cademuseum.org
SUMMARY:Little Sparks
DESCRIPTION:A fun and interactive program that introduces littles (ages 0-5) to science concepts through music\, dancing\, crafting\, stories\, and more.\n​\nIncluded in the cost of admission\, no pre-registration required.
URL:https://cademuseum.org/event/little-sparks-12-2-2/2028-11-23/
ATTACH;FMTTYPE=image/jpeg:https://cademuseum.org/wp-content/uploads/2023/02/DSC_0142.jpg
END:VEVENT
BEGIN:VEVENT
DTSTART;TZID=America/New_York:20281125T101500
DTEND;TZID=America/New_York:20281125T110000
DTSTAMP:20260421T092330
CREATED:20250324T191254Z
LAST-MODIFIED:20260330T192442Z
UID:10003312-1858760100-1858762800@cademuseum.org
SUMMARY:Little Sparks
DESCRIPTION:A fun and interactive program that introduces littles (ages 0-5) to science concepts through music\, dancing\, crafting\, stories\, and more.\n​\nIncluded in the cost of admission\, no pre-registration required.
URL:https://cademuseum.org/event/little-sparks-12-2-2/2028-11-25/
ATTACH;FMTTYPE=image/jpeg:https://cademuseum.org/wp-content/uploads/2023/02/DSC_0142.jpg
END:VEVENT
BEGIN:VEVENT
DTSTART;TZID=America/New_York:20281126T101500
DTEND;TZID=America/New_York:20281126T110000
DTSTAMP:20260421T092330
CREATED:20250324T191254Z
LAST-MODIFIED:20260330T192442Z
UID:10003313-1858846500-1858849200@cademuseum.org
SUMMARY:Little Sparks
DESCRIPTION:A fun and interactive program that introduces littles (ages 0-5) to science concepts through music\, dancing\, crafting\, stories\, and more.\n​\nIncluded in the cost of admission\, no pre-registration required.
URL:https://cademuseum.org/event/little-sparks-12-2-2/2028-11-26/
ATTACH;FMTTYPE=image/jpeg:https://cademuseum.org/wp-content/uploads/2023/02/DSC_0142.jpg
END:VEVENT
BEGIN:VEVENT
DTSTART;TZID=America/New_York:20281130T101500
DTEND;TZID=America/New_York:20281130T110000
DTSTAMP:20260421T092330
CREATED:20250324T191254Z
LAST-MODIFIED:20260330T192442Z
UID:10003682-1859192100-1859194800@cademuseum.org
SUMMARY:Little Sparks
DESCRIPTION:A fun and interactive program that introduces littles (ages 0-5) to science concepts through music\, dancing\, crafting\, stories\, and more.\n​\nIncluded in the cost of admission\, no pre-registration required.
URL:https://cademuseum.org/event/little-sparks-12-2-2/2028-11-30/
ATTACH;FMTTYPE=image/jpeg:https://cademuseum.org/wp-content/uploads/2023/02/DSC_0142.jpg
END:VEVENT
END:VCALENDAR